BEGIN:VCALENDAR
VERSION:2.0
PRODID:-//Center for Conscious Living of Northwest Ohio - ECPv6.15.20//NONSGML v1.0//EN
CALSCALE:GREGORIAN
METHOD:PUBLISH
X-ORIGINAL-URL:http://cclnwo.org
X-WR-CALDESC:Events for Center for Conscious Living of Northwest Ohio
REFRESH-INTERVAL;VALUE=DURATION:PT1H
X-Robots-Tag:noindex
X-PUBLISHED-TTL:PT1H
BEGIN:VTIMEZONE
TZID:America/Detroit
BEGIN:DAYLIGHT
TZOFFSETFROM:-0500
TZOFFSETTO:-0400
TZNAME:EDT
DTSTART:20250309T070000
END:DAYLIGHT
BEGIN:STANDARD
TZOFFSETFROM:-0400
TZOFFSETTO:-0500
TZNAME:EST
DTSTART:20251102T060000
END:STANDARD
BEGIN:DAYLIGHT
TZOFFSETFROM:-0500
TZOFFSETTO:-0400
TZNAME:EDT
DTSTART:20260308T070000
END:DAYLIGHT
BEGIN:STANDARD
TZOFFSETFROM:-0400
TZOFFSETTO:-0500
TZNAME:EST
DTSTART:20261101T060000
END:STANDARD
BEGIN:DAYLIGHT
TZOFFSETFROM:-0500
TZOFFSETTO:-0400
TZNAME:EDT
DTSTART:20270314T070000
END:DAYLIGHT
BEGIN:STANDARD
TZOFFSETFROM:-0400
TZOFFSETTO:-0500
TZNAME:EST
DTSTART:20271107T060000
END:STANDARD
END:VTIMEZONE
BEGIN:VEVENT
DTSTART;TZID=America/Detroit:20260208T100000
DTEND;TZID=America/Detroit:20260208T110000
DTSTAMP:20260421T073747
CREATED:20260202T184934Z
LAST-MODIFIED:20260202T185012Z
UID:4421-1770544800-1770548400@cclnwo.org
SUMMARY:Kathie Jaskolski "Chanting our way to Peace"
DESCRIPTION:
URL:http://cclnwo.org/event/kathie-jaskolski-chanting-our-way-to-peace/
END:VEVENT
BEGIN:VEVENT
DTSTART;TZID=America/Detroit:20260215T100000
DTEND;TZID=America/Detroit:20260215T110000
DTSTAMP:20260421T073747
CREATED:20260202T185121Z
LAST-MODIFIED:20260204T182801Z
UID:4423-1771149600-1771153200@cclnwo.org
SUMMARY:Tobie Saad  "Right Here\, Right Now"
DESCRIPTION:
URL:http://cclnwo.org/event/tobie-saad/
END:VEVENT
BEGIN:VEVENT
DTSTART;TZID=America/Detroit:20260222T100000
DTEND;TZID=America/Detroit:20260222T110000
DTSTAMP:20260421T073747
CREATED:20260202T185320Z
LAST-MODIFIED:20260202T185345Z
UID:4425-1771754400-1771758000@cclnwo.org
SUMMARY:Brian Davis " Q&A with the Collective
DESCRIPTION:
URL:http://cclnwo.org/event/brian-davis-qa-with-the-collective/
END:VEVENT
END:VCALENDAR